BEGIN:VCALENDAR
VERSION:2.0
PRODID:-// - ECPv6.15.20//NONSGML v1.0//EN
CALSCALE:GREGORIAN
METHOD:PUBLISH
X-ORIGINAL-URL:https://tenerstradition.blog
X-WR-CALDESC:Events for 
REFRESH-INTERVAL;VALUE=DURATION:PT1H
X-Robots-Tag:noindex
X-PUBLISHED-TTL:PT1H
BEGIN:VTIMEZONE
TZID:UTC
BEGIN:STANDARD
TZOFFSETFROM:+0000
TZOFFSETTO:+0000
TZNAME:UTC
DTSTART:20190101T000000
END:STANDARD
END:VTIMEZONE
BEGIN:VEVENT
DTSTART;TZID=UTC:20210424T000000
DTEND;TZID=UTC:20210501T235959
DTSTAMP:20260423T172844
CREATED:20210315T154801Z
LAST-MODIFIED:20210315T154806Z
UID:467-1619222400-1619913599@tenerstradition.blog
SUMMARY:Ruby Buckle Barrel Race
DESCRIPTION:Ruby Buckle Barrel Race at the Lazy E Arena from April 24 – May 1st
URL:https://tenerstradition.blog/events/ruby-buckle-barrel-race/
LOCATION:Lazy E Arena\, 9600 Lazy E Dr\, Guthrie\, Oklahoma\, 73044
ATTACH;FMTTYPE=image/jpeg:https://tenerstradition.blog/wp-content/uploads/2021/03/rubybuckle.jpg
END:VEVENT
BEGIN:VEVENT
DTSTART;TZID=UTC:20210417T000000
DTEND;TZID=UTC:20210418T235959
DTSTAMP:20260423T172844
CREATED:20210416T193036Z
LAST-MODIFIED:20210416T193039Z
UID:500-1618617600-1618790399@tenerstradition.blog
SUMMARY:PBR EXPRESS RANCHES INVITATIONAL
DESCRIPTION:PBR Express Ranches Invitational\n\n\n\nChesapeake Energy Arena | Oklahoma City\, OK\n\n\n\nApr 17th 2021 – 6:45 PM CDTApr 18th 2021 – 1:45 PM CDT
URL:https://tenerstradition.blog/events/pbr-express-ranches-invitational/
LOCATION:Chesapeake Arena\, 100 W. Reno Ave\, Oklahoma City\, Oklahoma\, 73102
ATTACH;FMTTYPE=image/png:https://tenerstradition.blog/wp-content/uploads/2021/04/pbr_utb.png
END:VEVENT
BEGIN:VEVENT
DTSTART;TZID=UTC:20210417T000000
DTEND;TZID=UTC:20210418T235959
DTSTAMP:20260423T172844
CREATED:20210315T154503Z
LAST-MODIFIED:20210315T154509Z
UID:464-1618617600-1618790399@tenerstradition.blog
SUMMARY:Jeff Smith Team Roping
DESCRIPTION:Jeff Smith Team Roping at the Lazy E Arena from April 17-18th
URL:https://tenerstradition.blog/events/jeff-smith-team-roping/
LOCATION:Lazy E Arena\, 9600 Lazy E Dr\, Guthrie\, Oklahoma\, 73044
ATTACH;FMTTYPE=image/jpeg:https://tenerstradition.blog/wp-content/uploads/2021/03/jeffsmith.jpg
END:VEVENT
BEGIN:VEVENT
DTSTART;TZID=UTC:20210415T000000
DTEND;TZID=UTC:20210417T235959
DTSTAMP:20260423T172844
CREATED:20210315T160027Z
LAST-MODIFIED:20210315T160031Z
UID:478-1618444800-1618703999@tenerstradition.blog
SUMMARY:2021 OKC Farm Show
DESCRIPTION:OKC Farm Show from April 15-17th at the OKC Fairgrounds
URL:https://tenerstradition.blog/events/2021-okc-farm-show/
LOCATION:State Fair Park\, 3001 General Pershing Blvd.\, Oklahoma City\, Oklahoma\, 73107
ATTACH;FMTTYPE=image/jpeg:https://tenerstradition.blog/wp-content/uploads/2021/03/Oklahoma-City-Farm-Show.jpg
END:VEVENT
BEGIN:VEVENT
DTSTART;TZID=UTC:20210409T000000
DTEND;TZID=UTC:20210411T235959
DTSTAMP:20260423T172844
CREATED:20210315T154015Z
LAST-MODIFIED:20210315T154019Z
UID:461-1617926400-1618185599@tenerstradition.blog
SUMMARY:Barrel Bash
DESCRIPTION:Barrel Bash at the Lazy E Arena from April 9-11
URL:https://tenerstradition.blog/events/barrel-bash/
LOCATION:Lazy E Arena\, 9600 Lazy E Dr\, Guthrie\, Oklahoma\, 73044
ATTACH;FMTTYPE=image/jpeg:https://tenerstradition.blog/wp-content/uploads/2021/03/barrelbash.jpg
END:VEVENT
BEGIN:VEVENT
DTSTART;TZID=UTC:20210402T000000
DTEND;TZID=UTC:20210404T235959
DTSTAMP:20260423T172844
CREATED:20210315T153821Z
LAST-MODIFIED:20210315T153826Z
UID:458-1617321600-1617580799@tenerstradition.blog
SUMMARY:Border Bash High School Rodeo
DESCRIPTION:Border Bash High School Rodeo at the Lazy E Arena from April 2-4th
URL:https://tenerstradition.blog/events/border-bash-high-school-rodeo/
LOCATION:Lazy E Arena\, 9600 Lazy E Dr\, Guthrie\, Oklahoma\, 73044
ATTACH;FMTTYPE=image/png:https://tenerstradition.blog/wp-content/uploads/2021/03/borderbash.png
END:VEVENT
BEGIN:VEVENT
DTSTART;TZID=UTC:20210330T000000
DTEND;TZID=UTC:20210403T235959
DTSTAMP:20260423T172844
CREATED:20210315T155827Z
LAST-MODIFIED:20210315T155832Z
UID:475-1617062400-1617494399@tenerstradition.blog
SUMMARY:Oklahoma Quarter Horse Spring Show
DESCRIPTION:Oklahoma Quarter Horse Spring Show at the OKC Fairgrounds from March 30 – April 3rd
URL:https://tenerstradition.blog/events/oklahoma-quarter-horse-spring-show/
LOCATION:State Fair Park\, 3001 General Pershing Blvd.\, Oklahoma City\, Oklahoma\, 73107
ATTACH;FMTTYPE=image/jpeg:https://tenerstradition.blog/wp-content/uploads/2021/03/oqha.jpg
END:VEVENT
BEGIN:VEVENT
DTSTART;TZID=UTC:20210326T000000
DTEND;TZID=UTC:20210328T235959
DTSTAMP:20260423T172844
CREATED:20210315T153540Z
LAST-MODIFIED:20210315T153545Z
UID:454-1616716800-1616975999@tenerstradition.blog
SUMMARY:TMS Mounted Shooting Classic
DESCRIPTION:Texhoma Mounted Shooting Classic at the Lazy E Arena from Mar. 26-28th
URL:https://tenerstradition.blog/events/tms-mounted-shooting-classic/
LOCATION:Lazy E Arena\, 9600 Lazy E Dr\, Guthrie\, Oklahoma\, 73044
ATTACH;FMTTYPE=image/jpeg:https://tenerstradition.blog/wp-content/uploads/2021/03/AdobeStock_2868610-1.jpeg
END:VEVENT
BEGIN:VEVENT
DTSTART;TZID=UTC:20210319T000000
DTEND;TZID=UTC:20210321T235959
DTSTAMP:20260423T172844
CREATED:20210315T153100Z
LAST-MODIFIED:20210315T153608Z
UID:451-1616112000-1616371199@tenerstradition.blog
SUMMARY:USTRC Winter Classic
DESCRIPTION:United States Team Roping Championship at the Lazy E Arena from March 19th-21st
URL:https://tenerstradition.blog/events/ustrc-winter-classic/
LOCATION:Lazy E Arena\, 9600 Lazy E Dr\, Guthrie\, Oklahoma\, 73044
ATTACH;FMTTYPE=image/png:https://tenerstradition.blog/wp-content/uploads/2021/03/ustrc.png
END:VEVENT
BEGIN:VEVENT
DTSTART;TZID=UTC:20210314T000000
DTEND;TZID=UTC:20210318T235959
DTSTAMP:20260423T172844
CREATED:20210119T221119Z
LAST-MODIFIED:20210119T221124Z
UID:439-1615680000-1616111999@tenerstradition.blog
SUMMARY:Bob Feist Invitational
DESCRIPTION:Bob Feist Invitational at the Lazy E Arena.
URL:https://tenerstradition.blog/events/bob-feist-invitational/
LOCATION:Lazy E Arena\, 9600 Lazy E Dr\, Guthrie\, Oklahoma\, 73044
ATTACH;FMTTYPE=image/jpeg:https://tenerstradition.blog/wp-content/uploads/2021/01/The-Feist.jpg
END:VEVENT
BEGIN:VEVENT
DTSTART;TZID=UTC:20210311T000000
DTEND;TZID=UTC:20210313T235959
DTSTAMP:20260423T172844
CREATED:20210119T220924Z
LAST-MODIFIED:20210119T220928Z
UID:436-1615420800-1615679999@tenerstradition.blog
SUMMARY:Cinch Timed Event Championship
DESCRIPTION:Cinch Timed Event Championship at the Lazy E Arena.
URL:https://tenerstradition.blog/events/cinch-timed-event-championship/
LOCATION:Lazy E Arena\, 9600 Lazy E Dr\, Guthrie\, Oklahoma\, 73044
ATTACH;FMTTYPE=image/png:https://tenerstradition.blog/wp-content/uploads/2021/01/timedeventchampionship.png
END:VEVENT
BEGIN:VEVENT
DTSTART;TZID=UTC:20210309T000000
DTEND;TZID=UTC:20210316T235959
DTSTAMP:20260423T172844
CREATED:20210315T155436Z
LAST-MODIFIED:20210315T155440Z
UID:473-1615248000-1615939199@tenerstradition.blog
SUMMARY:2021 Oklahoma Youth Expo
DESCRIPTION:2021 Oklahoma Youth Expo at the OKC Fairgrounds from March 9-16th
URL:https://tenerstradition.blog/events/2021-oklahoma-youth-expo-2/
LOCATION:State Fair Park – Jim Norick Arena\, 3001 General Pershing Blvd.\, Oklahoma City\, 73107
ATTACH;FMTTYPE=image/png:https://tenerstradition.blog/wp-content/uploads/2021/01/OYE_logo.png
END:VEVENT
BEGIN:VEVENT
DTSTART;TZID=UTC:20210306T000000
DTEND;TZID=UTC:20210306T235959
DTSTAMP:20260423T172844
CREATED:20210315T155206Z
LAST-MODIFIED:20210315T205453Z
UID:470-1614988800-1615075199@tenerstradition.blog
SUMMARY:OK County Free Fair Spring Livestock Show
DESCRIPTION:Oklahoma County Free Fair Spring Livestock Show at the OKC Fairgrounds from March 6-9th
URL:https://tenerstradition.blog/events/ok-county-free-fair-spring-livestock-show/
LOCATION:State Fair Park – Jim Norick Arena\, 3001 General Pershing Blvd.\, Oklahoma City\, 73107
ATTACH;FMTTYPE=image/jpeg:https://tenerstradition.blog/wp-content/uploads/2021/03/countyfreefair.jpg
END:VEVENT
BEGIN:VEVENT
DTSTART;TZID=UTC:20210212T000000
DTEND;TZID=UTC:20210214T235959
DTSTAMP:20260423T172844
CREATED:20210119T220453Z
LAST-MODIFIED:20210119T220518Z
UID:430-1613088000-1613347199@tenerstradition.blog
SUMMARY:Oklahoma Paint Horse Show
DESCRIPTION:Oklahoma Paint Horse Show at the Oklahoma City Fairgrounds.
URL:https://tenerstradition.blog/events/oklahoma-paint-horse-show/
LOCATION:State Fair Park – Jim Norick Arena\, 3001 General Pershing Blvd.\, Oklahoma City\, 73107
ATTACH;FMTTYPE=image/jpeg:https://tenerstradition.blog/wp-content/uploads/2021/01/painthorses.jpg
END:VEVENT
BEGIN:VEVENT
DTSTART;TZID=UTC:20210210T000000
DTEND;TZID=UTC:20210214T235959
DTSTAMP:20260423T172845
CREATED:20210119T220304Z
LAST-MODIFIED:20210119T220309Z
UID:427-1612915200-1613347199@tenerstradition.blog
SUMMARY:Lance Graves International Barrel Race
DESCRIPTION:Lance Graves International Barrel Race at the Lazy E Arena.
URL:https://tenerstradition.blog/events/lance-graves-international-barrel-race/
LOCATION:Lazy E Arena\, 9600 Lazy E Dr\, Guthrie\, Oklahoma\, 73044
ATTACH;FMTTYPE=image/jpeg:https://tenerstradition.blog/wp-content/uploads/2021/01/lglogo.jpg
END:VEVENT
BEGIN:VEVENT
DTSTART;TZID=UTC:20210206T000000
DTEND;TZID=UTC:20210207T235959
DTSTAMP:20260423T172845
CREATED:20210119T220001Z
LAST-MODIFIED:20210119T220003Z
UID:424-1612569600-1612742399@tenerstradition.blog
SUMMARY:Red Dirt Roping
DESCRIPTION:Red Dirt Roping – WSTR Qualifier at the Lazy E Arena.
URL:https://tenerstradition.blog/events/reddirtroping/
LOCATION:Lazy E Arena\, 9600 Lazy E Dr\, Guthrie\, Oklahoma\, 73044
ATTACH;FMTTYPE=image/jpeg:https://tenerstradition.blog/wp-content/uploads/2021/01/reddirt.jpg
END:VEVENT
BEGIN:VEVENT
DTSTART;TZID=UTC:20210102T000000
DTEND;TZID=UTC:20210117T235959
DTSTAMP:20260423T172845
CREATED:20201022T161449Z
LAST-MODIFIED:20201022T161453Z
UID:395-1609545600-1610927999@tenerstradition.blog
SUMMARY:Cattlemen's Congress
DESCRIPTION:The Cattlemen’s Congress is excited to welcome cattlemen and women from across North America to showcase their best genetics of the year! From Open and Junior Breeding Cattle Shows\, to Pen Shows\, Junior Market Shows\, Prospect Steer Show\, Prospect Heifer Show\, National Breed Sales and a Trade Show\, the Cattlemen’s Congress has it all! \n\n\n\n\n\n\n\nFor more information visit: \n\n\n\nCattlemen’s Congress
URL:https://tenerstradition.blog/events/cattlemens-congress/
LOCATION:State Fair Park\, 3001 General Pershing Blvd.\, Oklahoma City\, Oklahoma\, 73107
ATTACH;FMTTYPE=image/jpeg:https://tenerstradition.blog/wp-content/uploads/2020/10/cattlemanscongress.jpg
END:VEVENT
BEGIN:VEVENT
DTSTART;TZID=UTC:20201126T000000
DTEND;TZID=UTC:20201129T235959
DTSTAMP:20260423T172845
CREATED:20201022T161037Z
LAST-MODIFIED:20201022T161041Z
UID:392-1606348800-1606694399@tenerstradition.blog
SUMMARY:Chris Neal's Rising Stars of Calf Roping
DESCRIPTION:Chris Neal’s Rising Stars of Calf Roping at the Lazy E Arena. \n\n\n\n\n\n\n\nFor more information visit: \n\n\n\nhttps://www.facebook.com/events/237085596816195/
URL:https://tenerstradition.blog/events/rising-stars-calf-roping/
LOCATION:Lazy E Arena\, 9600 Lazy E Dr\, Guthrie\, Oklahoma\, 73044
ATTACH;FMTTYPE=image/png:https://tenerstradition.blog/wp-content/uploads/2020/10/chrisneals_risingstars.png
END:VEVENT
BEGIN:VEVENT
DTSTART;TZID=UTC:20201126T000000
DTEND;TZID=UTC:20201205T235959
DTSTAMP:20260423T172845
CREATED:20201022T151747Z
LAST-MODIFIED:20201022T151751Z
UID:381-1606348800-1607212799@tenerstradition.blog
SUMMARY:NRHA Futurity Show
DESCRIPTION:National Reining Horse Association Futurity  \n\n\n\nState Fair Park · Oklahoma City \n\n\n\n\n\n\n\nFor more information visit\, http://www.nrhafuturity.com/
URL:https://tenerstradition.blog/events/nrha-futurity-show/
LOCATION:State Fair Park\, 3001 General Pershing Blvd.\, Oklahoma City\, Oklahoma\, 73107
ATTACH;FMTTYPE=image/png:https://tenerstradition.blog/wp-content/uploads/2020/10/2020futurity.png
END:VEVENT
BEGIN:VEVENT
DTSTART;TZID=UTC:20201113T000000
DTEND;TZID=UTC:20201122T235959
DTSTAMP:20260423T172845
CREATED:20201022T152615Z
LAST-MODIFIED:20201022T152618Z
UID:384-1605225600-1606089599@tenerstradition.blog
SUMMARY:Barrel Futurities of America World Championship
DESCRIPTION:Barrel Futurities of America World Championship \n\n\n\nLazy E Arena \n\n\n\nFor more information\, visit: http://www.bfaworld.com/
URL:https://tenerstradition.blog/events/barrel-futurities-of-america-world-championship/
LOCATION:Oklahoma
ATTACH;FMTTYPE=image/gif:https://tenerstradition.blog/wp-content/uploads/2020/10/bfa_logo.gif
END:VEVENT
BEGIN:VEVENT
DTSTART;TZID=UTC:20201106T000000
DTEND;TZID=UTC:20201108T235900
DTSTAMP:20260423T172845
CREATED:20201022T160430Z
LAST-MODIFIED:20201022T160434Z
UID:387-1604620800-1604879940@tenerstradition.blog
SUMMARY:Fall Bash Youth Rodeo
DESCRIPTION:Two High School and Junior High Rodeos plus extra jackpot at the Lazy E Arena. \n\n\n\n\n\n\n\nFor more information visit:https://lazye.comhttps://www.ohsra.comhttps://www.okjhsra.com
URL:https://tenerstradition.blog/events/fall-bash-youth-rodeo/
LOCATION:Lazy E Arena\, 9600 Lazy E Dr\, Guthrie\, Oklahoma\, 73044
ATTACH;FMTTYPE=image/jpeg:https://tenerstradition.blog/wp-content/uploads/2020/10/fallbashrodeo.jpg
END:VEVENT
BEGIN:VEVENT
DTSTART;TZID=UTC:20201102T000000
DTEND;TZID=UTC:20201121T235959
DTSTAMP:20260423T172845
CREATED:20201008T144454Z
LAST-MODIFIED:20201022T151913Z
UID:354-1604275200-1606003199@tenerstradition.blog
SUMMARY:AQHA World Championship Show 2020
DESCRIPTION:The American Quarter Horse Association World Championship Show will be held at Oklahoma City’s State Fair Park – Jim Norick Arena. Come see the athletic ability and beauty of the American Quarter Horse along with the talents of the best riders in the world.  \n\n\n\n\n\n\n\n\n\n\n\n\n\n\n\nFor more information\, visit AQHA’s website
URL:https://tenerstradition.blog/events/aqha-world-championship-show-2020/
LOCATION:State Fair Park – Jim Norick Arena\, 3001 General Pershing Blvd.\, Oklahoma City\, 73107
ATTACH;FMTTYPE=image/jpeg:https://tenerstradition.blog/wp-content/uploads/2020/10/aqha_logo_horseashx.jpg
END:VEVENT
BEGIN:VEVENT
DTSTART;TZID=UTC:20201024T000000
DTEND;TZID=UTC:20201101T235900
DTSTAMP:20260423T172845
CREATED:20200908T213426Z
LAST-MODIFIED:20201022T151944Z
UID:223-1603497600-1604275140@tenerstradition.blog
SUMMARY:The World Cup Finals of Team Roping
DESCRIPTION:Lazy E Arena\n\n\n\n\n\n\n\n\n\nWorld Cup Finals of Team Roping held in Guthrie\, OK at the Lazy E Arena.
URL:https://tenerstradition.blog/events/the-world-cup-finals-of-team-roping/
LOCATION:Oklahoma
ATTACH;FMTTYPE=image/jpeg:https://tenerstradition.blog/wp-content/uploads/2020/09/worldcupfinals1.jpg
END:VEVENT
BEGIN:VEVENT
DTSTART;TZID=UTC:20201017T120000
DTEND;TZID=UTC:20201017T180000
DTSTAMP:20260423T172845
CREATED:20201008T142814Z
LAST-MODIFIED:20201008T145501Z
UID:349-1602936000-1602957600@tenerstradition.blog
SUMMARY:Tener's 90th Birthday Celebration
DESCRIPTION:Tener’s is celebrating 90 years of Cowboy on October 17th with an outdoor concert featuring Jack Rowdy\, horse-drawn wagon rides\, petting zoo\, free hot dogs\, BBQ truck\, chuck wagon\, free prizes and so much more. Get your picture taken with the bull or the unicorn! Either way\, come out and help us celebrate our 90th Birthday here at Tener’s Western Outfitters.
URL:https://tenerstradition.blog/events/teners-90th-birthday-celebration/
LOCATION:Tener’s Western Outfitters\, 4320 W Reno Ave\, Oklahoma City\, Oklahoma\, 73107
END:VEVENT
BEGIN:VEVENT
DTSTART;TZID=UTC:20201010T000000
DTEND;TZID=UTC:20201017T235959
DTSTAMP:20260423T172845
CREATED:20201008T145352Z
LAST-MODIFIED:20201008T145400Z
UID:359-1602288000-1602979199@tenerstradition.blog
SUMMARY:Grand National & World Championship Morgan Horse Show
DESCRIPTION:Since 1975\, The Grand National & World Championship Morgan Horse Show has represented the pinnacle of achievement in the Morgan Horse world.  It is held mid-October each year in Oklahoma City to permit equal access for exhibitors from all parts of the country.  \n\n\n\n\n\n\n\n\n\n\n\n\n\n\n\n\n\nFor more information\, visit the Morgan Grand National website
URL:https://tenerstradition.blog/events/grand-national-world-championship-morgan-horse-show/
LOCATION:State Fair Park\, 3001 General Pershing Blvd.\, Oklahoma City\, Oklahoma\, 73107
END:VEVENT
BEGIN:VEVENT
DTSTART;TZID=UTC:20201006T000000
DTEND;TZID=UTC:20201011T235959
DTSTAMP:20260423T172845
CREATED:20200908T212916Z
LAST-MODIFIED:20201008T145515Z
UID:220-1601942400-1602460799@tenerstradition.blog
SUMMARY:Pink Buckle Barrel Race
DESCRIPTION:Lazy E Arena\n\n\n\n\n\nThe Pink Buckle Barrel Race is a 4D & Futurity for horses sired by Pink Buckle stallions. It is designed to dramatically increase the number and quality of barrel racing performance horses by promoting the Pink Buckle stallions and their offspring. The 4D will be paid out equally and deeply across a ‘D’ system with 1/2 second splits. All levels of riders and horses are welcome and anyone who enters will have an excellent chance at winning life-changing money! \n\n\n\nWhen you own a horse that is sired by one of the Pink Buckle Stallions and current on the nominations schedule (yearly payments)\, you have access to this prestigious event!
URL:https://tenerstradition.blog/events/pink-buckle-barrel-race/
LOCATION:Oklahoma
END:VEVENT
BEGIN:VEVENT
DTSTART;TZID=UTC:20200925T000000
DTEND;TZID=UTC:20200926T235959
DTSTAMP:20260423T172845
CREATED:20200908T205548Z
LAST-MODIFIED:20201008T145525Z
UID:213-1600992000-1601164799@tenerstradition.blog
SUMMARY:Xtreme Bulls & Broncs - Div 2 Qualifying
DESCRIPTION:Jim Norick Arena\n\n\n\n\n\n\n\n\n\nDelivering action-packed bull riding followed by a high-energy country music concert\, the PRCA Xtreme Bulls & Broncs Tour is one incredible show! Taking place on back-to-back nights\, your evening will start with rip-snortin’ bulls that will test riders’ stamina and skill. After the dust settles in the Arena\, turn your attention to the stage for an electrifying performance by country music stars! 
URL:https://tenerstradition.blog/events/xtreme-bulls-broncs-div-2-qualifying/
LOCATION:Oklahoma
END:VEVENT
BEGIN:VEVENT
DTSTART;TZID=UTC:20200912T000000
DTEND;TZID=UTC:20200913T235959
DTSTAMP:20260423T172845
CREATED:20200908T212422Z
LAST-MODIFIED:20201008T145539Z
UID:217-1599868800-1600041599@tenerstradition.blog
SUMMARY:Red Dirt Team Roping
DESCRIPTION:Lazy E Arena\n\n\n\n\n\n2020 World Series of Team Roping Qualifier held in Guthrie\, Oklahoma at the Lazy E Arena.
URL:https://tenerstradition.blog/events/red-dirt-team-roping/
LOCATION:Oklahoma
END:VEVENT
BEGIN:VEVENT
DTSTART;TZID=UTC:20200904T000000
DTEND;TZID=UTC:20200907T235959
DTSTAMP:20260423T172845
CREATED:20200813T205934Z
LAST-MODIFIED:20201008T145548Z
UID:172-1599177600-1599523199@tenerstradition.blog
SUMMARY:USTPA Team Penning & Sorting
DESCRIPTION:Labor Day! Lazy E Pen & Sort September 4-6\, 2020National Event\n\n\n\nLazy E Pen & Sort! Labor Day Weekend 2020!!! \n\n\n\nArena: Lazy E Arena Guthrie\, OK \n\n\n\nContact: USTPA Office for more information or visit: https://ustpa.com/
URL:https://tenerstradition.blog/events/ustpa-team-penning-sorting/
LOCATION:Oklahoma
END:VEVENT
BEGIN:VEVENT
DTSTART;TZID=UTC:20200821T000000
DTEND;TZID=UTC:20200822T235959
DTSTAMP:20260423T172845
CREATED:20200813T205047Z
LAST-MODIFIED:20201008T145556Z
UID:169-1597968000-1598140799@tenerstradition.blog
SUMMARY:36th Annual Oklahoma Cattleman's Association Ranch Rodeo
DESCRIPTION:36th Annual OCA Ranch RodeoAugust 21 & 22\, 2020 – Lazy E Arena\, Guthrie\, OK \n\n\n\nFor more information visit: https://www.okcattlemen.org/oca-annual-ranch-rodeo
URL:https://tenerstradition.blog/events/36th-annual-oklahoma-cattlemans-association-ranch-rodeo/
LOCATION:Oklahoma
END:VEVENT
END:VCALENDAR